BEGIN:VCALENDAR
VERSION:2.0
PRODID:-//wp-events-plugin.com//7.2.3.1//EN
TZID:Europe/Berlin
X-WR-TIMEZONE:Europe/Berlin
BEGIN:VEVENT
UID:3288@evkirchewerne.de
DTSTART;TZID=Europe/Berlin:20260611T200000
DTEND;TZID=Europe/Berlin:20260611T220000
DTSTAMP:20260105T091049Z
URL:https://www.evkirchewerne.de/events/maennerverein-2026-01-08-2026-02-1
 2-2026-03-12-2026-04-09-2026-05-14-2026-06-11/
SUMMARY:Männerverein
DESCRIPTION:Kontakt: Dirk Oehler Tel.: 02389-922110
ATTACH;FMTTYPE=image/jpeg:https://www.evkirchewerne.de/wp-content/uploads/
 2023/05/Maennererein-Logo-002.jpg
CATEGORIES:Gruppe MLK,Gruppen
LOCATION:Martin-Luther-Zentrum\, Wichernstraße 2\, Werne\, 59368\, NRW\, D
 eutschland
X-APPLE-STRUCTURED-LOCATION;VALUE=URI;X-ADDRESS=Wichernstraße 2\, Werne\, 
 59368\, NRW\, Deutschland;X-APPLE-RADIUS=100;X-TITLE=Martin-Luther-Zentrum
 :geo:0,0
END:VEVENT
BEGIN:VTIMEZONE
TZID:Europe/Berlin
X-LIC-LOCATION:Europe/Berlin
BEGIN:DAYLIGHT
DTSTART:20260329T030000
TZOFFSETFROM:+0100
TZOFFSETTO:+0200
TZNAME:CEST
END:DAYLIGHT
END:VTIMEZONE
END:VCALENDAR