BEGIN:VCALENDAR
VERSION:2.0
PRODID:-//wp-events-plugin.com//7.2.3.1//EN
TZID:Europe/Berlin
X-WR-TIMEZONE:Europe/Berlin
BEGIN:VEVENT
UID:3089@evkirchewerne.de
DTSTART;TZID=Europe/Berlin:20250907T103000
DTEND;TZID=Europe/Berlin:20250907T113000
DTSTAMP:20250815T144554Z
URL:https://www.evkirchewerne.de/events/familiengottesdienst-zur-begruessu
 ng-der-konfi-kids/
SUMMARY:Familiengottesdienst zur Begrüßung der Konfi Kids
DESCRIPTION:Familiengottesdienst zur Begrüßung der Konfi Kids\nmit Erdmä
 nnchen Jan und drei weiteren Gästen\n\n&nbsp\;
ATTACH;FMTTYPE=image/jpeg:https://www.evkirchewerne.de/wp-content/uploads/
 2025/08/Plakat_Begruessungsgottesdienst.jpg
CATEGORIES:Dietrich-Bonhoeffer-Zentrum,Gottesdienst,Kirchen,Konfi-Kids
END:VEVENT
BEGIN:VTIMEZONE
TZID:Europe/Berlin
X-LIC-LOCATION:Europe/Berlin
BEGIN:DAYLIGHT
DTSTART:20250330T030000
TZOFFSETFROM:+0100
TZOFFSETTO:+0200
TZNAME:CEST
END:DAYLIGHT
END:VTIMEZONE
END:VCALENDAR