BEGIN:VCALENDAR
VERSION:2.0
PRODID:-//wp-events-plugin.com//7.2.3.1//EN
TZID:Europe/Berlin
X-WR-TIMEZONE:Europe/Berlin
BEGIN:VEVENT
UID:3870@evkirchewerne.de
DTSTART;TZID=Europe/Berlin:20260426T180000
DTEND;TZID=Europe/Berlin:20260426T200000
DTSTAMP:20260310T073705Z
URL:https://www.evkirchewerne.de/events/evensong-mit-dem-motettenkreis-wer
 ne/
SUMMARY:Evensong mit dem Motettenkreis Werne
DESCRIPTION:Evensong\nIch will von Gottes Güte singen\nChor-und Orgelwerke
  von\nFelix Mendelssohn Bartholdy\, Fanny Hensel und Otto Nicolai\n\n Aus
 führende:\nMotettenkreis Werne\nAnnette Drengk\, Leitung und Orgel
ATTACH;FMTTYPE=image/jpeg:https://www.evkirchewerne.de/wp-content/uploads/
 2026/03/Plakat_26.4.26_Motetten.jpg
CATEGORIES:Kirchen,Martin-Luther-Kirche,Veranstaltungen
LOCATION:Martin-Luther-Kirche\, Wichernstraße\, Werne\, NRW\, 59368\, Deut
 schland
X-APPLE-STRUCTURED-LOCATION;VALUE=URI;X-ADDRESS=Wichernstraße\, Werne\, NR
 W\, 59368\, Deutschland;X-APPLE-RADIUS=100;X-TITLE=Martin-Luther-Kirche:ge
 o:0,0
END:VEVENT
BEGIN:VTIMEZONE
TZID:Europe/Berlin
X-LIC-LOCATION:Europe/Berlin
BEGIN:DAYLIGHT
DTSTART:20260329T030000
TZOFFSETFROM:+0100
TZOFFSETTO:+0200
TZNAME:CEST
END:DAYLIGHT
END:VTIMEZONE
END:VCALENDAR