BEGIN:VCALENDAR
VERSION:2.0
PRODID:-//wp-events-plugin.com//7.2.3.1//EN
TZID:Europe/Berlin
X-WR-TIMEZONE:Europe/Berlin
BEGIN:VEVENT
UID:3202@evkirchewerne.de
DTSTART;TZID=Europe/Berlin:20251111T163000
DTEND;TZID=Europe/Berlin:20251111T180000
DTSTAMP:20251013T144514Z
URL:https://www.evkirchewerne.de/events/dienstagsspaziergang-fuer-frauen-m
 it-buecher-boerse/
SUMMARY:Dienstagsspaziergang für Frauen mit Bücher-Börse
DESCRIPTION:\n\nBewegung an der frischen Luft\, gute Gespräche führen\, K
 ontakte knüpfen\, Spaß...\nDer Spaziergang ist kostenlos.\nEine Anmedlun
 g ist nicht nötig.\nTeilnahme auf eigene Gefahr.\nOrganisatorin: Gundi La
 uf\nFür den besseren Ablauf\, komme 5 Minuten früher.\nWalkingstöcke na
 ch Bedarf\nBei Fragen schreibe mich gerne an: 0178 1642925\n\n \nTreffpunk
 t:\nDietrich-Bonhoeffer-Zentrum\nOstring 70\, 59368 Werne\,\nvon 16:30-18:
 00 Uhr\nLänge der Strecke: ca 5 Kilometer\n
ATTACH;FMTTYPE=image/jpeg:https://www.evkirchewerne.de/wp-content/uploads/
 2025/09/Plakat-_Dienstagsspaziergang_DBZ_Special_November.png
CATEGORIES:Gruppe DBZ
END:VEVENT
BEGIN:VTIMEZONE
TZID:Europe/Berlin
X-LIC-LOCATION:Europe/Berlin
BEGIN:STANDARD
DTSTART:20251026T020000
TZOFFSETFROM:+0200
TZOFFSETTO:+0100
TZNAME:CET
END:STANDARD
END:VTIMEZONE
END:VCALENDAR